BEGIN:VCALENDAR
VERSION:2.0
PRODID:-//Maine Youth Thriving - ECPv6.15.20//NONSGML v1.0//EN
CALSCALE:GREGORIAN
METHOD:PUBLISH
X-WR-CALNAME:Maine Youth Thriving
X-ORIGINAL-URL:https://maineyouththriving.org
X-WR-CALDESC:Events for Maine Youth Thriving
REFRESH-INTERVAL;VALUE=DURATION:PT1H
X-Robots-Tag:noindex
X-PUBLISHED-TTL:PT1H
BEGIN:VTIMEZONE
TZID:America/New_York
BEGIN:DAYLIGHT
TZOFFSETFROM:-0500
TZOFFSETTO:-0400
TZNAME:EDT
DTSTART:20250309T070000
END:DAYLIGHT
BEGIN:STANDARD
TZOFFSETFROM:-0400
TZOFFSETTO:-0500
TZNAME:EST
DTSTART:20251102T060000
END:STANDARD
BEGIN:DAYLIGHT
TZOFFSETFROM:-0500
TZOFFSETTO:-0400
TZNAME:EDT
DTSTART:20260308T070000
END:DAYLIGHT
BEGIN:STANDARD
TZOFFSETFROM:-0400
TZOFFSETTO:-0500
TZNAME:EST
DTSTART:20261101T060000
END:STANDARD
BEGIN:DAYLIGHT
TZOFFSETFROM:-0500
TZOFFSETTO:-0400
TZNAME:EDT
DTSTART:20270314T070000
END:DAYLIGHT
BEGIN:STANDARD
TZOFFSETFROM:-0400
TZOFFSETTO:-0500
TZNAME:EST
DTSTART:20271107T060000
END:STANDARD
END:VTIMEZONE
BEGIN:VEVENT
DTSTART;TZID=America/New_York:20260314T130000
DTEND;TZID=America/New_York:20260314T150000
DTSTAMP:20260422T055138
CREATED:20260121T135303Z
LAST-MODIFIED:20260312T151715Z
UID:10000038-1773493200-1773500400@maineyouththriving.org
SUMMARY:🌲 Crafting Mattering: A Family Event for Maine’s Mattering Cabins
DESCRIPTION:🌲 Join Us for a Family-Friendly Community Celebration🌲 \n\n\n\nDATE: Saturday\, March 14\, 2026 \n\n\n\nTIME: 1:00–3:00 PM \n\n\n\nLOCATION: 1015 US-202 North Monmouth\, ME 04265 \n\n\n\nCome celebrate with us for an afternoon of connection\, creativity\, and community joy\, including: \n\n\n\n\n🎉 The unveiling of the very first MyT Mattering Cabin\n\n\n\n🎨 Hands-on “Mattering” crafts for all ages\n\n\n\n🧢 Mattering swag & surprises\n\n\n\n📸 Photo opportunities and behind-the-scenes inspiration\n\n\n\n❤️ Fun\, welcoming activities for the whole family\n\n\n\n\nHosted by Maine Youth Thriving\, this event is about about building spaces and experiences where everyone matters. Come be part of this meaningful moment for Maine. \n\n\n\nThank you to our generous sponsors\, including Bangor Savings Bank\, Shutterbugs4Charity\, Kennebec Savings Bank\, and Northeast Delta Dental for supporting this community event. \n\n\n\nChildren under 5: Free \n\n\n\nYouth (5–18): Included with family admission
URL:https://maineyouththriving.org/event/%f0%9f%8c%b2-crafting-mattering-a-family-event-for-maines-mattering-cabins/
LOCATION:1015 US-202\, Monmouth\, ME 04265\, 1015 US-202\, Monmouth\, ME 04265\, Maine
END:VEVENT
BEGIN:VEVENT
DTSTART;TZID=America/New_York:20260428T120000
DTEND;TZID=America/New_York:20260428T133000
DTSTAMP:20260422T055138
CREATED:20260402T124849Z
LAST-MODIFIED:20260421T180806Z
UID:10000040-1777377600-1777383000@maineyouththriving.org
SUMMARY:The Science of Resilient & Thriving Youth
DESCRIPTION:Join us for our Speaker Series: Conversations that Matter \n\n\n\nYoung people today are growing up in a world of constant comparison\, digital overload\, academic pressure\, uncertainty about the future\, and rising rates of anxiety and disconnection. At the same time\, they possess extraordinary potential for creativity\, meaning\, leadership\, and growth. \n\n\n\nThe adults who support them — educators\, caregivers\, mentors\, and youth-serving professionals — are being asked to meet complex emotional needs while navigating burnout\, limited resources\, and rapidly changing cultural dynamics. \n\n\n\nThe science of resilience offers a powerful bridge. In this session\, we translate cutting-edge research in positive psychology and human development into practical strategies adults can use immediately to strengthen coping\, belonging\, motivation\, and hope. Participants will learn how everyday interactions\, environments\, and role-modeling can transform stress into growth and help young people not just survive these times\, but truly thrive.
URL:https://maineyouththriving.org/event/the-science-of-resilient-thriving-youth/
END:VEVENT
END:VCALENDAR